BEGIN:VCALENDAR
VERSION:2.0
PRODID:-//eventon.com NONSGML v1.0//EN
CALSCALE:GREGORIAN
METHOD:PUBLISH
BEGIN:VEVENT
UID:69e913431e13d
DTSTAMP:20260422T182819Z
DTSTART:20260422T153000Z
DTEND:20260422T170000Z
LOCATION:
SUMMARY:Maximizing Social Security & Minimizing Taxes
DESCRIPTION:Maximizing Social Security & Minimizing Taxes\nhttps://hillweal
 thstrategies.com/events/maximizing-social-security-minimizing-taxes/
URL:https://hillwealthstrategies.com/events/maximizing-social-security-minimizing-taxes/
END:VEVENT
END:VCALENDAR