BEGIN:VCALENDAR
VERSION:2.0
PRODID:-//eventon.com NONSGML v1.0//EN
CALSCALE:GREGORIAN
METHOD:PUBLISH
BEGIN:VEVENT
UID:69ea762431b54
DTSTAMP:20260423T194228Z
DTSTART:20260506T033000Z
DTEND:20260505T170000Z
LOCATION:
SUMMARY:Maximizing Social Security & Minimizing your Taxes
DESCRIPTION:Maximizing Social Security & Minimizing your Taxes\nhttps://hil
 lwealthstrategies.com/events/maximizing-social-security-minimizing-your-tax
 es-6/
URL:https://hillwealthstrategies.com/events/maximizing-social-security-minimizing-your-taxes-6/
END:VEVENT
END:VCALENDAR