BEGIN:VCALENDAR
VERSION:2.0
PRODID:-//eventon.com NONSGML v1.0//EN
CALSCALE:GREGORIAN
METHOD:PUBLISH
BEGIN:VEVENT
UID:69e9493572e8b
DTSTAMP:20260422T221829Z
DTSTART:20260625T033000Z
DTEND:20260624T170000Z
LOCATION:
SUMMARY:Maximizing Social Security & Minimizing your Taxes
DESCRIPTION:Maximizing Social Security & Minimizing your Taxes\nhttps://hil
 lwealthstrategies.com/events/maximizing-social-security-minimizing-your-tax
 es-8/
URL:https://hillwealthstrategies.com/events/maximizing-social-security-minimizing-your-taxes-8/
END:VEVENT
END:VCALENDAR